BEGIN:VCALENDAR
VERSION:2.0
PRODID:-//https://candlewood.brand24llc.com//NONSGML kigkonsult.se iCalcreator 2.41.71//
CALSCALE:GREGORIAN
METHOD:PUBLISH
UID:63323165-6366-4861-a265-333363343266
X-WR-CALNAME:JCal Pro Calendar
X-WR-CALDESC:Your online events calendar
X-WR-TIMEZONE:America/New_York
BEGIN:VTIMEZONE
TZID:America/New_York
TZUNTIL:20271107T060000Z
BEGIN:STANDARD
TZNAME:EST
DTSTART:20251102T020000
TZOFFSETFROM:-0400
TZOFFSETTO:-0500
RDATE:20261101T020000
END:STANDARD
BEGIN:DAYLIGHT
TZNAME:EDT
DTSTART:20260308T020000
TZOFFSETFROM:-0500
TZOFFSETTO:-0400
RDATE:20270314T020000
END:DAYLIGHT
END:VTIMEZONE
BEGIN:VEVENT
UID:20250725T230000UTC-9711vIuvgE@https://candlewoodknolls.com/
DTSTAMP:20260421T105317Z
CATEGORIES:Events
DTSTART;TZID=America/New_York:20250725T000000
DTEND;TZID=America/New_York:20250725T235959
SUMMARY:CK Candlewood Cup Golf Outing (Isle Hosts)
URL:https://candlewood.brand24llc.com/index.php/neighborhood/currentcalenda
 r/9-events/346-ck-candlewood-cup-golf-outing-isle-hosts
END:VEVENT
END:VCALENDAR
