BEGIN:VCALENDAR
VERSION:2.0
PRODID:-//https://candlewood.brand24llc.com//NONSGML kigkonsult.se iCalcreator 2.41.71//
CALSCALE:GREGORIAN
METHOD:PUBLISH
UID:33663164-6365-4630-b065-663363333562
X-WR-CALNAME:JCal Pro Calendar
X-WR-CALDESC:Your online events calendar
X-WR-TIMEZONE:America/New_York
BEGIN:VTIMEZONE
TZID:America/New_York
TZUNTIL:20271107T060000Z
BEGIN:STANDARD
TZNAME:EST
DTSTART:20251102T020000
TZOFFSETFROM:-0400
TZOFFSETTO:-0500
RDATE:20261101T020000
END:STANDARD
BEGIN:DAYLIGHT
TZNAME:EDT
DTSTART:20260308T020000
TZOFFSETFROM:-0500
TZOFFSETTO:-0400
RDATE:20270314T020000
END:DAYLIGHT
END:VTIMEZONE
BEGIN:VEVENT
UID:20230623T200000EDT-0421rELeud@https://www.candlewoodknolls.com/
DTSTAMP:20260419T181906Z
CATEGORIES:CKCP_Calendar Fun
CATEGORIES:Events
DTSTART;TZID=America/New_York:20230808T200000
DTEND;TZID=America/New_York:20230808T230000
SUMMARY:Movie Night on the Ballfield
URL:https://candlewood.brand24llc.com/index.php/neighborhood/currentcalenda
 r/24-ckcp-calendar-fun/243-movie-night-on-the-ballfield
END:VEVENT
END:VCALENDAR
