BEGIN:VCALENDAR
VERSION:2.0
PRODID:-//https://candlewood.brand24llc.com//NONSGML kigkonsult.se iCalcreator 2.41.71//
CALSCALE:GREGORIAN
METHOD:PUBLISH
UID:30323463-6536-4765-b030-393162306434
X-WR-CALNAME:JCal Pro Calendar
X-WR-CALDESC:Your online events calendar
X-WR-TIMEZONE:America/New_York
BEGIN:VTIMEZONE
TZID:America/New_York
TZUNTIL:20271107T060000Z
BEGIN:STANDARD
TZNAME:EST
DTSTART:20251102T020000
TZOFFSETFROM:-0400
TZOFFSETTO:-0500
RDATE:20261101T020000
END:STANDARD
BEGIN:DAYLIGHT
TZNAME:EDT
DTSTART:20260308T020000
TZOFFSETFROM:-0500
TZOFFSETTO:-0400
RDATE:20270314T020000
END:DAYLIGHT
END:VTIMEZONE
BEGIN:VEVENT
UID:20250711T190000UTC-0940fFaDeh@https://candlewoodknolls.com/
DTSTAMP:20260425T102832Z
CATEGORIES:Events
DTSTART;TZID=America/New_York:20250711T190000
DTEND;TZID=America/New_York:20250711T210000
SUMMARY:CK Community Meeting
URL:https://candlewood.brand24llc.com/index.php/neighborhood/currentcalenda
 r/9-events/338-ck-community-meeting
END:VEVENT
END:VCALENDAR
