BEGIN:VCALENDAR
VERSION:2.0
PRODID:-//https://candlewood.brand24llc.com//NONSGML kigkonsult.se iCalcreator 2.41.71//
CALSCALE:GREGORIAN
METHOD:PUBLISH
UID:38356334-6631-4662-b830-316162653838
X-WR-CALNAME:JCal Pro Calendar
X-WR-CALDESC:Your online events calendar
X-WR-TIMEZONE:America/New_York
BEGIN:VTIMEZONE
TZID:America/New_York
TZUNTIL:20271107T060000Z
BEGIN:STANDARD
TZNAME:EST
DTSTART:20251102T020000
TZOFFSETFROM:-0400
TZOFFSETTO:-0500
RDATE:20261101T020000
END:STANDARD
BEGIN:DAYLIGHT
TZNAME:EDT
DTSTART:20260308T020000
TZOFFSETFROM:-0500
TZOFFSETTO:-0400
RDATE:20270314T020000
END:DAYLIGHT
END:VTIMEZONE
BEGIN:VEVENT
UID:20250517T120000UTC-3297FdiUrZ@https://candlewoodknolls.com/
DTSTAMP:20260419T163515Z
CATEGORIES:Events
DTSTART;TZID=America/New_York:20250517T120000
DTEND;TZID=America/New_York:20250517T130000
SUMMARY:CK Tax District Budget Vote
URL:https://candlewood.brand24llc.com/index.php/neighborhood/currentcalenda
 r/9-events/337-ck-tax-district-budget-vote
END:VEVENT
BEGIN:VEVENT
UID:20250522T173000UTC-45736snO6Z@https://candlewoodknolls.com/
DTSTAMP:20260419T163515Z
CATEGORIES:Clubhouse
CATEGORIES:Events
DTSTART;TZID=America/New_York:20250522T173000
DTEND;TZID=America/New_York:20250522T233000
SUMMARY:Downstairs Rented
URL:https://candlewood.brand24llc.com/index.php/neighborhood/currentcalenda
 r/11-clubhouse/330-downstairs-rented
END:VEVENT
BEGIN:VEVENT
UID:20250524T183000UTC-10663bvfwk@https://candlewoodknolls.com/
DTSTAMP:20260419T163515Z
CATEGORIES:Events
DTSTART;TZID=America/New_York:20250524T183000
DTEND;TZID=America/New_York:20250524T230000
SUMMARY:Memorial Day Cocktail Party
URL:https://candlewood.brand24llc.com/index.php/neighborhood/currentcalenda
 r/9-events/342-memorial-day-cocktail-party
END:VEVENT
BEGIN:VEVENT
UID:20250630T190000UTC-1871xsuuga@https://www.candlewoodknolls.com/
DTSTAMP:20260419T163515Z
CATEGORIES:Events
DTSTART;TZID=America/New_York:20250526T190000
DTEND;TZID=America/New_York:20250526T200000
RRULE:FREQ=WEEKLY;COUNT=14;INTERVAL=1;BYDAY=MO
SUMMARY:Mahjong -Club Downstairs
URL:https://candlewood.brand24llc.com/index.php/neighborhood/currentcalenda
 r/9-events/353-mahjong-club-downstairs
END:VEVENT
END:VCALENDAR
